BEGIN:VCALENDAR
VERSION:2.0
PRODID:-//MN Abortion Action Committee - ECPv6.15.11//NONSGML v1.0//EN
CALSCALE:GREGORIAN
METHOD:PUBLISH
X-ORIGINAL-URL:https://mnaac.org
X-WR-CALDESC:Events for MN Abortion Action Committee
REFRESH-INTERVAL;VALUE=DURATION:PT1H
X-Robots-Tag:noindex
X-PUBLISHED-TTL:PT1H
BEGIN:VTIMEZONE
TZID:America/Chicago
BEGIN:DAYLIGHT
TZOFFSETFROM:-0600
TZOFFSETTO:-0500
TZNAME:CDT
DTSTART:20210314T080000
END:DAYLIGHT
BEGIN:STANDARD
TZOFFSETFROM:-0500
TZOFFSETTO:-0600
TZNAME:CST
DTSTART:20211107T070000
END:STANDARD
BEGIN:DAYLIGHT
TZOFFSETFROM:-0600
TZOFFSETTO:-0500
TZNAME:CDT
DTSTART:20220313T080000
END:DAYLIGHT
BEGIN:STANDARD
TZOFFSETFROM:-0500
TZOFFSETTO:-0600
TZNAME:CST
DTSTART:20221106T070000
END:STANDARD
BEGIN:DAYLIGHT
TZOFFSETFROM:-0600
TZOFFSETTO:-0500
TZNAME:CDT
DTSTART:20230312T080000
END:DAYLIGHT
BEGIN:STANDARD
TZOFFSETFROM:-0500
TZOFFSETTO:-0600
TZNAME:CST
DTSTART:20231105T070000
END:STANDARD
END:VTIMEZONE
BEGIN:VEVENT
DTSTART;TZID=America/Chicago:20221204T130000
DTEND;TZID=America/Chicago:20221204T150000
DTSTAMP:20260424T092256
CREATED:20221124T175715Z
LAST-MODIFIED:20221129T012426Z
UID:751-1670158800-1670166000@mnaac.org
SUMMARY:Holiday Craft & Bake Sale for Social Justice
DESCRIPTION:Holiday Craft & Bake Sale for Social Justice\nSunday\, December 4\, 2022\n1:00 p.m.\n4200 Cedar Ave S\nMinneapolis\, MN 55407\nCome support local social justice groups by buying cool crafts and tasty treats.\nGreat holiday gifts and food available!\nSpread the word!\n\n\nParticipating groups that will have tables there will include:\n* Anti-War Committee\n* Bikers Riding Against Police Brutality (BRAPB)\n* Climate Justice Committee\n* Communities United Against Police Brutality (CUAPB)\n* Families Supporting Families Against Police Violence (FSFAPV)\n* Minnesota Immigrant Rights Action Committee (MIRAC)\n* Minnesota Workers United\n* Students for a Democratic Society at UMN\n* Twin Cities Coalition for Justice 4 Jamar (TCC4J)\n* Veterans for Peace\n* Women Against Military Madness (WAMM)
URL:https://mnaac.org/event/holiday-craft-bake-sale-for-social-justice/
LOCATION:4200 Cedar Ave S\, 4200 Cedar Ave S\, Minneapolis\, MN\, United States
ATTACH;FMTTYPE=image/jpeg:https://mnaac.org/wp-content/uploads/2022/11/311305708_6097617843585040_2698407385223972353_n.jpg
END:VEVENT
END:VCALENDAR