BEGIN:VCALENDAR
VERSION:2.0
PRODID:-//MN Abortion Action Committee - ECPv6.15.11//NONSGML v1.0//EN
CALSCALE:GREGORIAN
METHOD:PUBLISH
X-ORIGINAL-URL:https://mnaac.org
X-WR-CALDESC:Events for MN Abortion Action Committee
REFRESH-INTERVAL;VALUE=DURATION:PT1H
X-Robots-Tag:noindex
X-PUBLISHED-TTL:PT1H
BEGIN:VTIMEZONE
TZID:America/Chicago
BEGIN:DAYLIGHT
TZOFFSETFROM:-0600
TZOFFSETTO:-0500
TZNAME:CDT
DTSTART:20220313T080000
END:DAYLIGHT
BEGIN:STANDARD
TZOFFSETFROM:-0500
TZOFFSETTO:-0600
TZNAME:CST
DTSTART:20221106T070000
END:STANDARD
BEGIN:DAYLIGHT
TZOFFSETFROM:-0600
TZOFFSETTO:-0500
TZNAME:CDT
DTSTART:20230312T080000
END:DAYLIGHT
BEGIN:STANDARD
TZOFFSETFROM:-0500
TZOFFSETTO:-0600
TZNAME:CST
DTSTART:20231105T070000
END:STANDARD
BEGIN:DAYLIGHT
TZOFFSETFROM:-0600
TZOFFSETTO:-0500
TZNAME:CDT
DTSTART:20240310T080000
END:DAYLIGHT
BEGIN:STANDARD
TZOFFSETFROM:-0500
TZOFFSETTO:-0600
TZNAME:CST
DTSTART:20241103T070000
END:STANDARD
END:VTIMEZONE
BEGIN:VEVENT
DTSTART;TZID=America/Chicago:20230519T173000
DTEND;TZID=America/Chicago:20230519T193000
DTSTAMP:20260422T131910
CREATED:20230424T232421Z
LAST-MODIFIED:20230424T232422Z
UID:1001-1684517400-1684524600@mnaac.org
SUMMARY:MNAAC Fundraiser!
DESCRIPTION:Save the Date! Next month\, we’re having our first fundraiser! 🎉 \n\n\n\n🗓️ Friday\, May 19th⏰ 6:00PM📍Sibley Park\, E 39th St & 20th Ave \n\n\n\nAll funds raised will go towards organizing expenses like flyers\, screen printing supplies\, sound equipment\, and more\, so that we can keep hitting the streets to fight for abortion rights! \n\n\n\n#reproductiverights#abortionishealthcare#womensrights#transrights#roevwade
URL:https://mnaac.org/event/mnaac-fundraiser/
LOCATION:MN
ATTACH;FMTTYPE=image/jpeg:https://mnaac.org/wp-content/uploads/2023/04/signal-2023-04-23-162433_002.jpeg
END:VEVENT
END:VCALENDAR