BEGIN:VCALENDAR
VERSION:2.0
PRODID:-//MN Abortion Action Committee - ECPv6.15.11//NONSGML v1.0//EN
CALSCALE:GREGORIAN
METHOD:PUBLISH
X-WR-CALNAME:MN Abortion Action Committee
X-ORIGINAL-URL:https://mnaac.org
X-WR-CALDESC:Events for MN Abortion Action Committee
REFRESH-INTERVAL;VALUE=DURATION:PT1H
X-Robots-Tag:noindex
X-PUBLISHED-TTL:PT1H
BEGIN:VTIMEZONE
TZID:America/Chicago
BEGIN:DAYLIGHT
TZOFFSETFROM:-0600
TZOFFSETTO:-0500
TZNAME:CDT
DTSTART:20210314T080000
END:DAYLIGHT
BEGIN:STANDARD
TZOFFSETFROM:-0500
TZOFFSETTO:-0600
TZNAME:CST
DTSTART:20211107T070000
END:STANDARD
BEGIN:DAYLIGHT
TZOFFSETFROM:-0600
TZOFFSETTO:-0500
TZNAME:CDT
DTSTART:20220313T080000
END:DAYLIGHT
BEGIN:STANDARD
TZOFFSETFROM:-0500
TZOFFSETTO:-0600
TZNAME:CST
DTSTART:20221106T070000
END:STANDARD
BEGIN:DAYLIGHT
TZOFFSETFROM:-0600
TZOFFSETTO:-0500
TZNAME:CDT
DTSTART:20230312T080000
END:DAYLIGHT
BEGIN:STANDARD
TZOFFSETFROM:-0500
TZOFFSETTO:-0600
TZNAME:CST
DTSTART:20231105T070000
END:STANDARD
END:VTIMEZONE
BEGIN:VEVENT
DTSTART;TZID=America/Chicago:20221204T130000
DTEND;TZID=America/Chicago:20221204T150000
DTSTAMP:20260424T075304
CREATED:20221124T175715Z
LAST-MODIFIED:20221129T012426Z
UID:751-1670158800-1670166000@mnaac.org
SUMMARY:Holiday Craft & Bake Sale for Social Justice
DESCRIPTION:Holiday Craft & Bake Sale for Social Justice\nSunday\, December 4\, 2022\n1:00 p.m.\n4200 Cedar Ave S\nMinneapolis\, MN 55407\nCome support local social justice groups by buying cool crafts and tasty treats.\nGreat holiday gifts and food available!\nSpread the word!\n\n\nParticipating groups that will have tables there will include:\n* Anti-War Committee\n* Bikers Riding Against Police Brutality (BRAPB)\n* Climate Justice Committee\n* Communities United Against Police Brutality (CUAPB)\n* Families Supporting Families Against Police Violence (FSFAPV)\n* Minnesota Immigrant Rights Action Committee (MIRAC)\n* Minnesota Workers United\n* Students for a Democratic Society at UMN\n* Twin Cities Coalition for Justice 4 Jamar (TCC4J)\n* Veterans for Peace\n* Women Against Military Madness (WAMM)
URL:https://mnaac.org/event/holiday-craft-bake-sale-for-social-justice/
LOCATION:4200 Cedar Ave S\, 4200 Cedar Ave S\, Minneapolis\, MN\, United States
ATTACH;FMTTYPE=image/jpeg:https://mnaac.org/wp-content/uploads/2022/11/311305708_6097617843585040_2698407385223972353_n.jpg
END:VEVENT
BEGIN:VEVENT
DTSTART;TZID=America/Chicago:20221210T130000
DTEND;TZID=America/Chicago:20221210T150000
DTSTAMP:20260424T075304
CREATED:20221129T012233Z
LAST-MODIFIED:20221129T012314Z
UID:755-1670677200-1670684400@mnaac.org
SUMMARY:Human Rights Day
DESCRIPTION:MARK YOUR CALENDARS! \nSaturday\, December 10 @ 1 pm\nBryant Square Park\, 3101 Bryant Ave S\, Minneapolis \nThe US uses the language of human rights to justify US intervention in Ukraine and to impose sanctions on Iran\, Venezuela\, and Cuba. \nMeanwhile the US government continuously refuses to act in support of the basic human rights to education\, healthcare\, housing\, and a liveable planet for our children here at home. After the Supreme Court’s decision overturning Roe v. Wade\, people in the US are also fighting for women’s and reproductive rights. People of color are targeted and murdered by police in their own communities. \nThis comes on top of longstanding US wars and interventions\, which NEVER bring human rights. Instead\, they brutally subject the peoples of the world to occupation and instability\, while stealing their natural resources and suppressing their rights to self-determination. We see it in Palestine\, where the US encourages illegal annexations for Israeli settlers\, and funds the ongoing war on Palestinians. \nJoin with us to demand respect for human rights at home and abroad! \nInitiated by the Anti-War Committee.
URL:https://mnaac.org/event/human-rights-day/
LOCATION:Bryant Square Park\, 3101 Bryant Ave S\, Minneapolis
CATEGORIES:March,Rally
ATTACH;FMTTYPE=image/jpeg:https://mnaac.org/wp-content/uploads/2022/11/316422049_6099674020050995_8208105193563818443_n.jpg
END:VEVENT
BEGIN:VEVENT
DTSTART;TZID=America/Chicago:20221214T180000
DTEND;TZID=America/Chicago:20221214T190000
DTSTAMP:20260424T075304
CREATED:20221212T011605Z
LAST-MODIFIED:20221212T011605Z
UID:799-1671040800-1671044400@mnaac.org
SUMMARY:Organizing Meeting
DESCRIPTION:
URL:https://mnaac.org/event/organizing-meeting-2/
LOCATION:4200 Cedar Ave S\, 4200 Cedar Ave S\, Minneapolis\, MN\, United States
CATEGORIES:Meeting
ATTACH;FMTTYPE=image/png:https://mnaac.org/wp-content/uploads/2022/08/cropped-MNAAC-Button-Designs-1.png
END:VEVENT
END:VCALENDAR