BEGIN:VCALENDAR
VERSION:2.0
PRODID:-//MN Abortion Action Committee - ECPv6.15.11//NONSGML v1.0//EN
CALSCALE:GREGORIAN
METHOD:PUBLISH
X-ORIGINAL-URL:https://mnaac.org
X-WR-CALDESC:Events for MN Abortion Action Committee
REFRESH-INTERVAL;VALUE=DURATION:PT1H
X-Robots-Tag:noindex
X-PUBLISHED-TTL:PT1H
BEGIN:VTIMEZONE
TZID:America/Chicago
BEGIN:DAYLIGHT
TZOFFSETFROM:-0600
TZOFFSETTO:-0500
TZNAME:CDT
DTSTART:20220313T080000
END:DAYLIGHT
BEGIN:STANDARD
TZOFFSETFROM:-0500
TZOFFSETTO:-0600
TZNAME:CST
DTSTART:20221106T070000
END:STANDARD
BEGIN:DAYLIGHT
TZOFFSETFROM:-0600
TZOFFSETTO:-0500
TZNAME:CDT
DTSTART:20230312T080000
END:DAYLIGHT
BEGIN:STANDARD
TZOFFSETFROM:-0500
TZOFFSETTO:-0600
TZNAME:CST
DTSTART:20231105T070000
END:STANDARD
BEGIN:DAYLIGHT
TZOFFSETFROM:-0600
TZOFFSETTO:-0500
TZNAME:CDT
DTSTART:20240310T080000
END:DAYLIGHT
BEGIN:STANDARD
TZOFFSETFROM:-0500
TZOFFSETTO:-0600
TZNAME:CST
DTSTART:20241103T070000
END:STANDARD
END:VTIMEZONE
BEGIN:VEVENT
DTSTART;TZID=America/Chicago:20230111T180000
DTEND;TZID=America/Chicago:20230111T190000
DTSTAMP:20260424T062713
CREATED:20230105T012221Z
LAST-MODIFIED:20230105T012241Z
UID:807-1673460000-1673463600@mnaac.org
SUMMARY:Organizing Meeting
DESCRIPTION:
URL:https://mnaac.org/event/organizing-meeting-3/
LOCATION:4200 Cedar Ave S\, 4200 Cedar Ave S\, Minneapolis\, MN\, United States
CATEGORIES:Meeting
ATTACH;FMTTYPE=image/png:https://mnaac.org/wp-content/uploads/2022/08/cropped-MNAAC-Button-Designs-1.png
END:VEVENT
BEGIN:VEVENT
DTSTART;TZID=America/Chicago:20230114T130000
DTEND;TZID=America/Chicago:20230114T150000
DTSTAMP:20260424T062713
CREATED:20230105T012338Z
LAST-MODIFIED:20230110T182340Z
UID:809-1673701200-1673708400@mnaac.org
SUMMARY:Art Build - Banner Painting
DESCRIPTION:
URL:https://mnaac.org/event/art-build-banner-painting/
LOCATION:4200 Cedar Ave S\, 4200 Cedar Ave S\, Minneapolis\, MN\, United States
CATEGORIES:Art-Build,Meeting
ATTACH;FMTTYPE=image/png:https://mnaac.org/wp-content/uploads/2023/01/3c53ccae9a0ceb5d8c49b16b908606370687961c03a0fb06ca8cf1f2312d3577.png
END:VEVENT
BEGIN:VEVENT
DTSTART;TZID=America/Chicago:20230119T170000
DTEND;TZID=America/Chicago:20230119T180000
DTSTAMP:20260424T062713
CREATED:20230105T012446Z
LAST-MODIFIED:20230116T012608Z
UID:811-1674147600-1674151200@mnaac.org
SUMMARY:Bannering - We want real healthcare NOT crisis pregnancy centers!
DESCRIPTION:
URL:https://mnaac.org/event/bannering-we-want-real-healthcare-not-crisis-pregnancy-centers/
LOCATION:MN
CATEGORIES:Bannering
END:VEVENT
BEGIN:VEVENT
DTSTART;TZID=America/Chicago:20230125T180000
DTEND;TZID=America/Chicago:20230125T190000
DTSTAMP:20260424T062713
CREATED:20230116T012409Z
LAST-MODIFIED:20230116T012409Z
UID:863-1674669600-1674673200@mnaac.org
SUMMARY:Organizing Meeting
DESCRIPTION:
URL:https://mnaac.org/event/organizing-meeting-4/
LOCATION:4200 Cedar Ave S\, 4200 Cedar Ave S\, Minneapolis\, MN\, United States
ATTACH;FMTTYPE=image/png:https://mnaac.org/wp-content/uploads/2022/08/cropped-MNAAC-Button-Designs-1.png
END:VEVENT
END:VCALENDAR