BEGIN:VCALENDAR
VERSION:2.0
PRODID:-//MN Abortion Action Committee - ECPv6.15.11//NONSGML v1.0//EN
CALSCALE:GREGORIAN
METHOD:PUBLISH
X-ORIGINAL-URL:https://mnaac.org
X-WR-CALDESC:Events for MN Abortion Action Committee
REFRESH-INTERVAL;VALUE=DURATION:PT1H
X-Robots-Tag:noindex
X-PUBLISHED-TTL:PT1H
BEGIN:VTIMEZONE
TZID:America/Chicago
BEGIN:DAYLIGHT
TZOFFSETFROM:-0600
TZOFFSETTO:-0500
TZNAME:CDT
DTSTART:20220313T080000
END:DAYLIGHT
BEGIN:STANDARD
TZOFFSETFROM:-0500
TZOFFSETTO:-0600
TZNAME:CST
DTSTART:20221106T070000
END:STANDARD
BEGIN:DAYLIGHT
TZOFFSETFROM:-0600
TZOFFSETTO:-0500
TZNAME:CDT
DTSTART:20230312T080000
END:DAYLIGHT
BEGIN:STANDARD
TZOFFSETFROM:-0500
TZOFFSETTO:-0600
TZNAME:CST
DTSTART:20231105T070000
END:STANDARD
BEGIN:DAYLIGHT
TZOFFSETFROM:-0600
TZOFFSETTO:-0500
TZNAME:CDT
DTSTART:20240310T080000
END:DAYLIGHT
BEGIN:STANDARD
TZOFFSETFROM:-0500
TZOFFSETTO:-0600
TZNAME:CST
DTSTART:20241103T070000
END:STANDARD
END:VTIMEZONE
BEGIN:VEVENT
DTSTART;TZID=America/Chicago:20230603T130000
DTEND;TZID=America/Chicago:20230603T130000
DTSTAMP:20260422T103615
CREATED:20230527T081436Z
LAST-MODIFIED:20230527T081437Z
UID:1013-1685797200-1685797200@mnaac.org
SUMMARY:Crisis Pregnancy Center Teach-In
DESCRIPTION:Now that Minnesota has ended state funding for CPCs\, where do we go from here? Come to our teach-in to learn more about these centers\, their private evangelical funders\, and the harm they cause in our communities! \n\n\n\n🗓️ Saturday\, June 3rd⏰ 1:00PM📍 Arvonne Fraser Library\, Room 003#reproductiverights#womensrights#transrights#roevwade#crisispregnancycenter
URL:https://mnaac.org/event/crisis-pregnancy-center-teach-in-2/
LOCATION:MN
CATEGORIES:Teach-In
ATTACH;FMTTYPE=image/jpeg:https://mnaac.org/wp-content/uploads/2023/05/english.jpeg
END:VEVENT
BEGIN:VEVENT
DTSTART;TZID=America/Chicago:20230624T130000
DTEND;TZID=America/Chicago:20230624T130000
DTSTAMP:20260422T103615
CREATED:20230527T081219Z
LAST-MODIFIED:20230527T081220Z
UID:1009-1687611600-1687611600@mnaac.org
SUMMARY:National Day of Action - One Year Without Roe
DESCRIPTION:One year without Roe\, and we’re still fighting for abortion rights! Join us for this national day of action on June 24th as we take the streets for abortion access! Make Minnesota a true sanctuary state! Stand up against abortion bans nationwide! \n\n\n\n🗓️ Saturday\, June 24th⏰ 1:00PM📍 Humphrey Circle\, 301 S 19th Ave \n\n\n\n#abortionjusticemn#abortionrights#abortionishealthcare#womensrights#reproductiverights#transrights#roevwade
URL:https://mnaac.org/event/national-day-of-action-one-year-without-roe/
LOCATION:MN
CATEGORIES:March
ATTACH;FMTTYPE=image/png:https://mnaac.org/wp-content/uploads/2023/05/Screen-Shot-2023-05-27-at-3.05.57-AM.png
END:VEVENT
BEGIN:VEVENT
DTSTART;TZID=America/Chicago:20230625T090000
DTEND;TZID=America/Chicago:20230625T090000
DTSTAMP:20260422T103615
CREATED:20230527T081833Z
LAST-MODIFIED:20230527T081833Z
UID:1020-1687683600-1687683600@mnaac.org
SUMMARY:Taking Back Pride March
DESCRIPTION:Join us this pride in fighting for queer and trans liberation and protesting the continued presence of cops\, capitalism\, and corporations at Twin Cities Pride! \n\n\n\nPRIDE FOR THE PEOPLE!  \n\n\n\nBLACK TRANS LIVES MATTER!  \n\n\n\nSTOP THE ATTACK ON QUEER AND TRANS RIGHTS!  \n\n\n\nSTONEWALL WAS A RIOT!  \n\n\n\n \n\n\n\nHosted by the Taking Back Pride Coalition
URL:https://mnaac.org/event/taking-back-pride-march/
LOCATION:MN
CATEGORIES:March
ATTACH;FMTTYPE=image/png:https://mnaac.org/wp-content/uploads/2023/05/Screen-Shot-2023-05-27-at-3.17.52-AM.png
END:VEVENT
END:VCALENDAR