BEGIN:VCALENDAR
VERSION:2.0
PRODID:-//MN Abortion Action Committee - ECPv6.15.11//NONSGML v1.0//EN
CALSCALE:GREGORIAN
METHOD:PUBLISH
X-ORIGINAL-URL:https://mnaac.org
X-WR-CALDESC:Events for MN Abortion Action Committee
REFRESH-INTERVAL;VALUE=DURATION:PT1H
X-Robots-Tag:noindex
X-PUBLISHED-TTL:PT1H
BEGIN:VTIMEZONE
TZID:America/Chicago
BEGIN:DAYLIGHT
TZOFFSETFROM:-0600
TZOFFSETTO:-0500
TZNAME:CDT
DTSTART:20220313T080000
END:DAYLIGHT
BEGIN:STANDARD
TZOFFSETFROM:-0500
TZOFFSETTO:-0600
TZNAME:CST
DTSTART:20221106T070000
END:STANDARD
BEGIN:DAYLIGHT
TZOFFSETFROM:-0600
TZOFFSETTO:-0500
TZNAME:CDT
DTSTART:20230312T080000
END:DAYLIGHT
BEGIN:STANDARD
TZOFFSETFROM:-0500
TZOFFSETTO:-0600
TZNAME:CST
DTSTART:20231105T070000
END:STANDARD
BEGIN:DAYLIGHT
TZOFFSETFROM:-0600
TZOFFSETTO:-0500
TZNAME:CDT
DTSTART:20240310T080000
END:DAYLIGHT
BEGIN:STANDARD
TZOFFSETFROM:-0500
TZOFFSETTO:-0600
TZNAME:CST
DTSTART:20241103T070000
END:STANDARD
END:VTIMEZONE
BEGIN:VEVENT
DTSTART;TZID=America/Chicago:20230803T183000
DTEND;TZID=America/Chicago:20230803T193000
DTSTAMP:20260422T073103
CREATED:20230722T224843Z
LAST-MODIFIED:20230722T224844Z
UID:1090-1691087400-1691091000@mnaac.org
SUMMARY:Weekly Meeting
DESCRIPTION:
URL:https://mnaac.org/event/weekly-meeting-2/
LOCATION:MayDay Books\, 301 Cedar Ave\, Minneapolis\, Minnesota\, 55454
END:VEVENT
BEGIN:VEVENT
DTSTART;TZID=America/Chicago:20230810T183000
DTEND;TZID=America/Chicago:20230810T193000
DTSTAMP:20260422T073103
CREATED:20230722T224919Z
LAST-MODIFIED:20230722T224919Z
UID:1092-1691692200-1691695800@mnaac.org
SUMMARY:Weekly Meeting
DESCRIPTION:
URL:https://mnaac.org/event/weekly-meeting-3/
LOCATION:MayDay Books\, 301 Cedar Ave\, Minneapolis\, Minnesota\, 55454
END:VEVENT
BEGIN:VEVENT
DTSTART;TZID=America/Chicago:20230817T183000
DTEND;TZID=America/Chicago:20230817T193000
DTSTAMP:20260422T073103
CREATED:20230722T224948Z
LAST-MODIFIED:20230722T224948Z
UID:1094-1692297000-1692300600@mnaac.org
SUMMARY:Weekly Meeting
DESCRIPTION:
URL:https://mnaac.org/event/weekly-meeting-4/
LOCATION:MayDay Books\, 301 Cedar Ave\, Minneapolis\, Minnesota\, 55454
END:VEVENT
BEGIN:VEVENT
DTSTART;TZID=America/Chicago:20230824T183000
DTEND;TZID=America/Chicago:20230824T193000
DTSTAMP:20260422T073103
CREATED:20230722T225017Z
LAST-MODIFIED:20230722T225018Z
UID:1096-1692901800-1692905400@mnaac.org
SUMMARY:Weekly Meeting
DESCRIPTION:
URL:https://mnaac.org/event/weekly-meeting-5/
LOCATION:MayDay Books\, 301 Cedar Ave\, Minneapolis\, Minnesota\, 55454
END:VEVENT
BEGIN:VEVENT
DTSTART;TZID=America/Chicago:20230831T183000
DTEND;TZID=America/Chicago:20230831T193000
DTSTAMP:20260422T073103
CREATED:20230828T024425Z
LAST-MODIFIED:20230828T024425Z
UID:1179-1693506600-1693510200@mnaac.org
SUMMARY:Weekly Meeting
DESCRIPTION:
URL:https://mnaac.org/event/weekly-meeting-7/
LOCATION:MayDay Books\, 301 Cedar Ave\, Minneapolis\, Minnesota\, 55454
ATTACH;FMTTYPE=image/png:https://mnaac.org/wp-content/uploads/2022/08/cropped-MNAAC-Button-Designs-1.png
END:VEVENT
END:VCALENDAR